BEGIN:VCALENDAR
VERSION:2.0
PRODID:-//Rotary Club of Chino Valley - ECPv5.10.1//NONSGML v1.0//EN
CALSCALE:GREGORIAN
METHOD:PUBLISH
X-WR-CALNAME:Rotary Club of Chino Valley
X-ORIGINAL-URL:https://chinorotary.org
X-WR-CALDESC:Events for Rotary Club of Chino Valley
BEGIN:VTIMEZONE
TZID:UTC
BEGIN:STANDARD
TZOFFSETFROM:+0000
TZOFFSETTO:+0000
TZNAME:UTC
DTSTART:20180101T000000
END:STANDARD
END:VTIMEZONE
BEGIN:VEVENT
DTSTART;TZID=UTC:20180905T120000
DTEND;TZID=UTC:20180905T130000
DTSTAMP:20260422T133225
CREATED:20180717T223111Z
LAST-MODIFIED:20180801T000822Z
UID:318-1536148800-1536152400@chinorotary.org
SUMMARY:Weekly Lunch Meeting
DESCRIPTION:
URL:https://chinorotary.org/event/weekly-lunch-meeting-9/
LOCATION:Chino Community Building\, 5443 B Street\, Chino\, CA\, 91710
CATEGORIES:Weekly Meeting
END:VEVENT
END:VCALENDAR