BEGIN:VCALENDAR
VERSION:2.0
PRODID:-//Rotary Club of Chino Valley - ECPv5.10.1//NONSGML v1.0//EN
CALSCALE:GREGORIAN
METHOD:PUBLISH
X-WR-CALNAME:Rotary Club of Chino Valley
X-ORIGINAL-URL:https://chinorotary.org
X-WR-CALDESC:Events for Rotary Club of Chino Valley
BEGIN:VTIMEZONE
TZID:UTC
BEGIN:STANDARD
TZOFFSETFROM:+0000
TZOFFSETTO:+0000
TZNAME:UTC
DTSTART:20190101T000000
END:STANDARD
END:VTIMEZONE
BEGIN:VEVENT
DTSTART;TZID=UTC:20190227T190000
DTEND;TZID=UTC:20190227T200000
DTSTAMP:20260422T164125
CREATED:20190212T183411Z
LAST-MODIFIED:20190227T000237Z
UID:3975-1551294000-1551297600@chinorotary.org
SUMMARY:Social: Xscape Room in Chino Hills
DESCRIPTION:Social: Xscape Room in Chino Hills
URL:https://chinorotary.org/event/social-xscape-room-in-chino-hills/
LOCATION:Xscape Pods\, 4200 Chino Hills Parkway Ste. 825\, Chino Hills\, CA\, 91709\, United States
CATEGORIES:Weekly Meeting
END:VEVENT
END:VCALENDAR