BEGIN:VCALENDAR
VERSION:2.0
PRODID:-//Rotary Club of Chino Valley - ECPv5.10.1//NONSGML v1.0//EN
CALSCALE:GREGORIAN
METHOD:PUBLISH
X-WR-CALNAME:Rotary Club of Chino Valley
X-ORIGINAL-URL:https://chinorotary.org
X-WR-CALDESC:Events for Rotary Club of Chino Valley
BEGIN:VTIMEZONE
TZID:UTC
BEGIN:STANDARD
TZOFFSETFROM:+0000
TZOFFSETTO:+0000
TZNAME:UTC
DTSTART:20180101T000000
END:STANDARD
END:VTIMEZONE
BEGIN:VEVENT
DTSTART;TZID=UTC:20180805T080000
DTEND;TZID=UTC:20180805T160000
DTSTAMP:20260422T141446
CREATED:20180717T224035Z
LAST-MODIFIED:20180801T001000Z
UID:328-1533456000-1533484800@chinorotary.org
SUMMARY:Love Them All Charity Softball Tournament
DESCRIPTION:Love Them All Foundation presents 1 Day Softball Tournament to benefit local Children with Special Needs. We have Competitive and Recreational brackets. Lots of food\, prizes\, and many laughs.
URL:https://chinorotary.org/event/love-them-all-charity-softball-tournament/
LOCATION:Chino Hills Community Park\, 3280 Eucalyptus Avenue\, Chino Hills\, CA\, 91709
CATEGORIES:Partner Event
END:VEVENT
END:VCALENDAR