BEGIN:VCALENDAR
VERSION:2.0
PRODID:-//Rotary Club of Chino Valley - ECPv5.10.1//NONSGML v1.0//EN
CALSCALE:GREGORIAN
METHOD:PUBLISH
X-WR-CALNAME:Rotary Club of Chino Valley
X-ORIGINAL-URL:https://chinorotary.org
X-WR-CALDESC:Events for Rotary Club of Chino Valley
BEGIN:VTIMEZONE
TZID:UTC
BEGIN:STANDARD
TZOFFSETFROM:+0000
TZOFFSETTO:+0000
TZNAME:UTC
DTSTART:20190101T000000
END:STANDARD
END:VTIMEZONE
BEGIN:VEVENT
DTSTART;TZID=UTC:20190619T120000
DTEND;TZID=UTC:20190619T130000
DTSTAMP:20260422T121913
CREATED:20190606T022504Z
LAST-MODIFIED:20190619T173555Z
UID:4175-1560945600-1560949200@chinorotary.org
SUMMARY:Allen Crombie Awards
DESCRIPTION:On Wednesday\, June 19th\, we will be meeting at Boy’s Republic in Chino\, CA from 12:00pm – 1:00pm. (5130 Riverside Dr. Chino\, CA 91710) \nAl McCombs will be speaking on who Crombie Allen was and why the awards started. Lunch will be provided to members.
URL:https://chinorotary.org/event/allen-crombie-luncheon-ny-pizzeria-social/
LOCATION:Boy’s Republic\, 1907 Boys Republic Dr.\, Chino Hills\, 91709
CATEGORIES:Weekly Meeting
END:VEVENT
END:VCALENDAR