BEGIN:VCALENDAR
VERSION:2.0
PRODID:-//Rotary Club of Chino Valley - ECPv5.10.1//NONSGML v1.0//EN
CALSCALE:GREGORIAN
METHOD:PUBLISH
X-WR-CALNAME:Rotary Club of Chino Valley
X-ORIGINAL-URL:https://chinorotary.org
X-WR-CALDESC:Events for Rotary Club of Chino Valley
BEGIN:VTIMEZONE
TZID:UTC
BEGIN:STANDARD
TZOFFSETFROM:+0000
TZOFFSETTO:+0000
TZNAME:UTC
DTSTART:20230101T000000
END:STANDARD
END:VTIMEZONE
BEGIN:VEVENT
DTSTART;TZID=UTC:20230308T170000
DTEND;TZID=UTC:20230308T180000
DTSTAMP:20260423T232821
CREATED:20230209T004752Z
LAST-MODIFIED:20230209T004752Z
UID:5316-1678294800-1678298400@chinorotary.org
SUMMARY:Chino Valley Rotary Club Golf Tournament Planning Meeting
DESCRIPTION:The Chino Valley Rotary Club will plan to host a golf tournament later in 2023 and we want to invite you to help plan for our golf tournament. Our first meeting on the golf tournament will be held on Wednesday\, March 8 from 5pm to 6pm at the Chino Valley Chamber of Commerce.
URL:https://chinorotary.org/event/chino-valley-rotary-club-golf-tournament-planning-meeting/
LOCATION:Chino Valley Chamber of Commerce\, 13150 7th St.\, Chino\, CA\, 91710\, United States
CATEGORIES:Annual Events,Weekly Meeting
ORGANIZER;CN="Zeb%20Welborn":MAILTO:zeb@welbornmedia.com
END:VEVENT
END:VCALENDAR