BEGIN:VCALENDAR
VERSION:2.0
PRODID:-//Rotary Club of Chino Valley - ECPv5.10.1//NONSGML v1.0//EN
CALSCALE:GREGORIAN
METHOD:PUBLISH
X-WR-CALNAME:Rotary Club of Chino Valley
X-ORIGINAL-URL:https://chinorotary.org
X-WR-CALDESC:Events for Rotary Club of Chino Valley
BEGIN:VTIMEZONE
TZID:UTC
BEGIN:STANDARD
TZOFFSETFROM:+0000
TZOFFSETTO:+0000
TZNAME:UTC
DTSTART:20180101T000000
END:STANDARD
END:VTIMEZONE
BEGIN:VEVENT
DTSTART;TZID=UTC:20181129T163000
DTEND;TZID=UTC:20181129T180000
DTSTAMP:20260419T203704
CREATED:20181127T003607Z
LAST-MODIFIED:20181127T003607Z
UID:3905-1543509000-1543514400@chinorotary.org
SUMMARY:Chino Rotary and Chino Valley Firefighter Foundation on NBC News
DESCRIPTION:This Thursday November 29th\, 2018 from 4:30pm to 6:00pm\, we will be receiving some club recognition for our donation to the Chino Valley Fire Foundation for placing an AED and Trauma Kit to the Avocado House (11618 Central Ave. Chino\, CA 91710). \nI hope everyone can make it as we’ll be interviewed by NBC News!!!
URL:https://chinorotary.org/event/chino-rotary-and-chino-valley-firefighter-foundation-on-nbc-news/
LOCATION:Avocado House\, 11618 Central Ave.\, Chino\, CA\, 91710\, United States
CATEGORIES:Partner Event
END:VEVENT
END:VCALENDAR