BEGIN:VCALENDAR
VERSION:2.0
PRODID:-//Rotary Club of Chino Valley - ECPv5.10.1//NONSGML v1.0//EN
CALSCALE:GREGORIAN
METHOD:PUBLISH
X-WR-CALNAME:Rotary Club of Chino Valley
X-ORIGINAL-URL:https://chinorotary.org
X-WR-CALDESC:Events for Rotary Club of Chino Valley
BEGIN:VTIMEZONE
TZID:UTC
BEGIN:STANDARD
TZOFFSETFROM:+0000
TZOFFSETTO:+0000
TZNAME:UTC
DTSTART:20180101T000000
END:STANDARD
END:VTIMEZONE
BEGIN:VEVENT
DTSTART;TZID=UTC:20181114T120000
DTEND;TZID=UTC:20181114T130000
DTSTAMP:20260423T092001
CREATED:20181002T231158Z
LAST-MODIFIED:20181002T231230Z
UID:3831-1542196800-1542200400@chinorotary.org
SUMMARY:Weekly Lunch Meeting
DESCRIPTION:District Global Grant Rotary Project Hope Update – Gene Hernandez\, Mark Barragan\, Charlie Barr PDG\, Linda Perla
URL:https://chinorotary.org/event/weekly-lunch-meeting-16/
LOCATION:Chino Community Building\, 5443 B Street\, Chino\, CA\, 91710
CATEGORIES:Weekly Meeting
END:VEVENT
END:VCALENDAR